BEGIN:VCALENDAR
VERSION:2.0
PRODID:-//SteinCHenwelt.ch - ECPv6.15.18//NONSGML v1.0//EN
CALSCALE:GREGORIAN
METHOD:PUBLISH
X-WR-CALNAME:SteinCHenwelt.ch
X-ORIGINAL-URL:https://steinchenwelt.ch
X-WR-CALDESC:Veranstaltungen für SteinCHenwelt.ch
REFRESH-INTERVAL;VALUE=DURATION:PT1H
X-Robots-Tag:noindex
X-PUBLISHED-TTL:PT1H
BEGIN:VTIMEZONE
TZID:Europe/Berlin
BEGIN:DAYLIGHT
TZOFFSETFROM:+0100
TZOFFSETTO:+0200
TZNAME:CEST
DTSTART:20260329T010000
END:DAYLIGHT
BEGIN:STANDARD
TZOFFSETFROM:+0200
TZOFFSETTO:+0100
TZNAME:CET
DTSTART:20261025T010000
END:STANDARD
BEGIN:DAYLIGHT
TZOFFSETFROM:+0100
TZOFFSETTO:+0200
TZNAME:CEST
DTSTART:20270328T010000
END:DAYLIGHT
BEGIN:STANDARD
TZOFFSETFROM:+0200
TZOFFSETTO:+0100
TZNAME:CET
DTSTART:20271031T010000
END:STANDARD
BEGIN:DAYLIGHT
TZOFFSETFROM:+0100
TZOFFSETTO:+0200
TZNAME:CEST
DTSTART:20280326T010000
END:DAYLIGHT
BEGIN:STANDARD
TZOFFSETFROM:+0200
TZOFFSETTO:+0100
TZNAME:CET
DTSTART:20281029T010000
END:STANDARD
END:VTIMEZONE
BEGIN:VEVENT
DTSTART;TZID=Europe/Berlin:20270417T080000
DTEND;TZID=Europe/Berlin:20270417T170000
DTSTAMP:20260424T113009
CREATED:20250821T150050Z
LAST-MODIFIED:20250821T150050Z
UID:4746-1807948800-1807981200@steinchenwelt.ch
SUMMARY:SteinCHenwelt 2027
DESCRIPTION:
URL:https://steinchenwelt.ch/event/steinchenwelt-2027/
LOCATION:Solothurn
END:VEVENT
BEGIN:VEVENT
DTSTART;TZID=Europe/Berlin:20270418T080000
DTEND;TZID=Europe/Berlin:20270418T170000
DTSTAMP:20260424T113009
CREATED:20250821T150110Z
LAST-MODIFIED:20250821T150110Z
UID:4748-1808035200-1808067600@steinchenwelt.ch
SUMMARY:SteinCHenwelt 2027
DESCRIPTION:
URL:https://steinchenwelt.ch/event/steinchenwelt-2027-2/
LOCATION:Solothurn
END:VEVENT
END:VCALENDAR