BEGIN:VCALENDAR
VERSION:2.0
PRODID:-//SteinCHenwelt.ch - ECPv6.15.18//NONSGML v1.0//EN
CALSCALE:GREGORIAN
METHOD:PUBLISH
X-ORIGINAL-URL:https://steinchenwelt.ch
X-WR-CALDESC:Veranstaltungen für SteinCHenwelt.ch
REFRESH-INTERVAL;VALUE=DURATION:PT1H
X-Robots-Tag:noindex
X-PUBLISHED-TTL:PT1H
BEGIN:VTIMEZONE
TZID:Europe/Berlin
BEGIN:DAYLIGHT
TZOFFSETFROM:+0100
TZOFFSETTO:+0200
TZNAME:CEST
DTSTART:20250330T010000
END:DAYLIGHT
BEGIN:STANDARD
TZOFFSETFROM:+0200
TZOFFSETTO:+0100
TZNAME:CET
DTSTART:20251026T010000
END:STANDARD
BEGIN:DAYLIGHT
TZOFFSETFROM:+0100
TZOFFSETTO:+0200
TZNAME:CEST
DTSTART:20260329T010000
END:DAYLIGHT
BEGIN:STANDARD
TZOFFSETFROM:+0200
TZOFFSETTO:+0100
TZNAME:CET
DTSTART:20261025T010000
END:STANDARD
BEGIN:DAYLIGHT
TZOFFSETFROM:+0100
TZOFFSETTO:+0200
TZNAME:CEST
DTSTART:20270328T010000
END:DAYLIGHT
BEGIN:STANDARD
TZOFFSETFROM:+0200
TZOFFSETTO:+0100
TZNAME:CET
DTSTART:20271031T010000
END:STANDARD
END:VTIMEZONE
BEGIN:VEVENT
DTSTART;TZID=Europe/Berlin:20261121T100000
DTEND;TZID=Europe/Berlin:20261121T170000
DTSTAMP:20260424T115507
CREATED:20251128T170638Z
LAST-MODIFIED:20251128T170638Z
UID:5218-1795255200-1795280400@steinchenwelt.ch
SUMMARY:LEGO®Flohmarkt Zofingen
DESCRIPTION:Ein weiteres Mal gibt es zur Vorweihnachtszeit einen LEGOFlohmarkt in Zofingen – komm vorbei!
URL:https://steinchenwelt.ch/event/legoflohmarkt-zofingen-3/
LOCATION:Ammon Schreinerei Zofingen\, Aarburgerstrasse 13\, Zofingen\, 4800\, Switzerland
END:VEVENT
END:VCALENDAR