BEGIN:VCALENDAR
VERSION:2.0
PRODID:-//SteinCHenwelt.ch - ECPv6.15.18//NONSGML v1.0//EN
CALSCALE:GREGORIAN
METHOD:PUBLISH
X-WR-CALNAME:SteinCHenwelt.ch
X-ORIGINAL-URL:https://steinchenwelt.ch
X-WR-CALDESC:Veranstaltungen für SteinCHenwelt.ch
REFRESH-INTERVAL;VALUE=DURATION:PT1H
X-Robots-Tag:noindex
X-PUBLISHED-TTL:PT1H
BEGIN:VTIMEZONE
TZID:Europe/Berlin
BEGIN:DAYLIGHT
TZOFFSETFROM:+0100
TZOFFSETTO:+0200
TZNAME:CEST
DTSTART:20250330T010000
END:DAYLIGHT
BEGIN:STANDARD
TZOFFSETFROM:+0200
TZOFFSETTO:+0100
TZNAME:CET
DTSTART:20251026T010000
END:STANDARD
BEGIN:DAYLIGHT
TZOFFSETFROM:+0100
TZOFFSETTO:+0200
TZNAME:CEST
DTSTART:20260329T010000
END:DAYLIGHT
BEGIN:STANDARD
TZOFFSETFROM:+0200
TZOFFSETTO:+0100
TZNAME:CET
DTSTART:20261025T010000
END:STANDARD
BEGIN:DAYLIGHT
TZOFFSETFROM:+0100
TZOFFSETTO:+0200
TZNAME:CEST
DTSTART:20270328T010000
END:DAYLIGHT
BEGIN:STANDARD
TZOFFSETFROM:+0200
TZOFFSETTO:+0100
TZNAME:CET
DTSTART:20271031T010000
END:STANDARD
END:VTIMEZONE
BEGIN:VEVENT
DTSTART;TZID=Europe/Berlin:20260418T100000
DTEND;TZID=Europe/Berlin:20260418T180000
DTSTAMP:20260424T111815
CREATED:20250821T145752Z
LAST-MODIFIED:20260415T191521Z
UID:4738-1776506400-1776535200@steinchenwelt.ch
SUMMARY:SteinCHenwelt 2026
DESCRIPTION:
URL:https://steinchenwelt.ch/event/steinchenwelt-2026/
LOCATION:Stadthalle Chur\, Weststrasse 5\, 7000 Chur\, Weststrasse 5\, Chur\, Graubünden\, 7000\, Switzerland
ATTACH;FMTTYPE=image/png:https://steinchenwelt.ch/wp-content/uploads/2025/08/Logo-2026-komplett-mit-Schriftzug-scaled.png
END:VEVENT
END:VCALENDAR